BEGIN:VCALENDAR
VERSION:2.0
PRODID:-//Maison de l Architecture et des Espaces en Bretagne - ECPv6.15.11//NONSGML v1.0//EN
CALSCALE:GREGORIAN
METHOD:PUBLISH
X-WR-CALNAME:Maison de l Architecture et des Espaces en Bretagne
X-ORIGINAL-URL:https://www.architecturebretagne.fr
X-WR-CALDESC:Évènements pour Maison de l Architecture et des Espaces en Bretagne
REFRESH-INTERVAL;VALUE=DURATION:PT1H
X-Robots-Tag:noindex
X-PUBLISHED-TTL:PT1H
BEGIN:VTIMEZONE
TZID:Europe/Paris
BEGIN:DAYLIGHT
TZOFFSETFROM:+0100
TZOFFSETTO:+0200
TZNAME:CEST
DTSTART:20250330T010000
END:DAYLIGHT
BEGIN:STANDARD
TZOFFSETFROM:+0200
TZOFFSETTO:+0100
TZNAME:CET
DTSTART:20251026T010000
END:STANDARD
BEGIN:DAYLIGHT
TZOFFSETFROM:+0100
TZOFFSETTO:+0200
TZNAME:CEST
DTSTART:20260329T010000
END:DAYLIGHT
BEGIN:STANDARD
TZOFFSETFROM:+0200
TZOFFSETTO:+0100
TZNAME:CET
DTSTART:20261025T010000
END:STANDARD
BEGIN:DAYLIGHT
TZOFFSETFROM:+0100
TZOFFSETTO:+0200
TZNAME:CEST
DTSTART:20270328T010000
END:DAYLIGHT
BEGIN:STANDARD
TZOFFSETFROM:+0200
TZOFFSETTO:+0100
TZNAME:CET
DTSTART:20271031T010000
END:STANDARD
END:VTIMEZONE
BEGIN:VEVENT
DTSTART;TZID=Europe/Paris:20260423T160000
DTEND;TZID=Europe/Paris:20260423T190000
DTSTAMP:20260424T175137
CREATED:20260302T130457Z
LAST-MODIFIED:20260416T142501Z
UID:9530-1776960000-1776970800@www.architecturebretagne.fr
SUMMARY:Parcours : Visite Maison Flow - Vannes
DESCRIPTION:Rejoignez-nous le jeudi 23 avril pour une journée immersive au cœur d’un projet de réhabilitation exemplaire récemment nommé pour le prestigieux EU Mies Award 2026. \nAu programme :\nVisites guidées gratuites à 10h\, 11h30\, 14h30 et 16h30.\nContenus exclusifs : projection d’un film de chantier et photos par l’agence Office Zola.\nConférence à 18h15 : « Un lieu\, une architecture\, la première année de Maison Flow » avec Maly Sananikone et les architectes d’Office Zola. \nUne chance unique de visiter une architecture qui fait parler d’elle bien au-delà de nos frontières ! \nJeudi 23 avril 2026 à partir de 10h\n8 Av. Favrel et Lincy\, Vannes (à 2 min de la gare) \nInscription ici \n 
URL:https://www.architecturebretagne.fr/calendrier/parcours-visite-maison-flow-vannes/
ATTACH;FMTTYPE=image/png:https://www.architecturebretagne.fr/wp-content/uploads/2026/04/Flyer.png
END:VEVENT
BEGIN:VEVENT
DTSTART;TZID=Europe/Paris:20260403T143000
DTEND;TZID=Europe/Paris:20260403T160000
DTSTAMP:20260424T175137
CREATED:20260302T130659Z
LAST-MODIFIED:20260302T130902Z
UID:9533-1775226600-1775232000@www.architecturebretagne.fr
SUMMARY:Parcours : visite du Pôle Sportif et Culturel - La Bouëxière
DESCRIPTION:La MAeB et EU Mies vous invitent à découvrir le nouveau Pôle Sportif et Culturel de La Bouëxière\, sélectionné au Prix d’Architecture espaces Bretagne et finaliste du EU Mies Award. \nLa visite guidée du projet sera assurée par Gustavo Silva-Nicoletti\, directeur d’onze04\, et son équipe. Vous découvrirez la genèse du projet ainsi que les stratégies clés et les détails architecturaux du bâtiment. La visite se terminera dans le gymnase par une performance de danse professionnelle chorégraphiée par Dylan Crossman. \nDurée : 1h\nDate : vendredi 3 avril\nHoraire : 14h30-16h00\nAdresse : 10 rue Jean Langlais\, 35340 La Bouëxière\nBus 591 au départ de Rennes / 30 min en voiture de Rennes\, \nArchitecte : onze04\nProjet : Centre sportif et culturel Marie-José Perec\, salle de danse Joséphine Baker \n  \nInscription ici \n  \n© Juan Cardona
URL:https://www.architecturebretagne.fr/calendrier/parcours-visite-du-pole-sportif-et-culturel-la-bouexiere/
ATTACH;FMTTYPE=image/png:https://www.architecturebretagne.fr/wp-content/uploads/2026/03/2.png
END:VEVENT
BEGIN:VEVENT
DTSTART;TZID=Europe/Paris:20260326T090000
DTEND;TZID=Europe/Paris:20260326T170000
DTSTAMP:20260424T175137
CREATED:20260220T160241Z
LAST-MODIFIED:20260302T125834Z
UID:9493-1774515600-1774544400@www.architecturebretagne.fr
SUMMARY:Rencontres territoriales ACTEE - MAeB à Morlaix
DESCRIPTION:Rencontres territoriales pour la rénovation énergétique des bâtiments publics\nLe 26 mars 2026\, la Maison de l’Architecture et des Espaces en Bretagne organise une journée dédiée à la rénovation énergétique des bâtiments publics dans le programme ACTEE (FNCCR)\, à la Manufacture des Tabacs (SEW)\, Morlaix. Une journée consacrée à la rénovation énergétique des bâtiments publics\, autour de la thématique :\n« La thermique comme structure\, chauffer les corps ou les murs ? » \nAu programme : \n\nVisite guidée de la Manufacture des Tabacs et découverte de projets récents de rénovation (SEW\, Espace des sciences\, salle des Beaux-Arts)\nPrésentation du programme ACTEE\nConférence\, débat et retours d’expérience entre intervenants et acteurs du territoire\n\nÉlu·e·s\, technicien·ne·s\, architectes\, professionnel·le·s du patrimoine\, collectivités et maîtres d’ouvrage : rejoignez-nous pour échanger sur la rénovation énergétique dans le bâti existant. \nInformations pratiques\nDate : 26 mars 2026Lieu : Manufacture des Tabacs – 39 ter Quai de Léon\, 29600 Morlaix \nInscription ici \n 
URL:https://www.architecturebretagne.fr/calendrier/rencontres-territoriales-actee-maeb-a-morlaix/
ATTACH;FMTTYPE=image/jpeg:https://www.architecturebretagne.fr/wp-content/uploads/2026/02/MAeB_ACTEE_Invitation.jpeg
END:VEVENT
BEGIN:VEVENT
DTSTART;TZID=Europe/Paris:20260324T190000
DTEND;TZID=Europe/Paris:20260324T210000
DTSTAMP:20260424T175137
CREATED:20260302T130139Z
LAST-MODIFIED:20260302T130139Z
UID:9525-1774378800-1774386000@www.architecturebretagne.fr
SUMMARY:Apéro-débat : Habitat participatif
DESCRIPTION:« De nouvelles formes d’habitat\, quand le collectif se fait participatif »\nRendez-vous le mardi 24 mars à 19h à l’Embarcadère (Lorient) pour explorer de nouveaux modèles de vie partagée. Pour en débattre\, nous aurons le plaisir d’accueillir deux experts du sujet : Tristan La Prairie (Ateliers TLPA) et Olivier Pouvreau\, qui partagera son retour d’expérience sur l’opération lorientaise : « Les Toits partagés ».\n \nMardi 24 mars à 19h00 · L’Embarcadère\, 22 Bd Franchet d’Esperey – Lorient (56)\nGratuit et ouvert à toutes et tous
URL:https://www.architecturebretagne.fr/calendrier/apero-debat-habitat-participatif/
LOCATION:L’Embarcadère\, 22 Bd Franchet d’Esperey – Lorient\, 22 Bd Franchet d'Esperey\, Lorient\, 56000
CATEGORIES:Rencontres
END:VEVENT
BEGIN:VEVENT
DTSTART;TZID=Europe/Paris:20260311T183000
DTEND;TZID=Europe/Paris:20260311T210000
DTSTAMP:20260424T175137
CREATED:20260302T125650Z
LAST-MODIFIED:20260302T135953Z
UID:9519-1773253800-1773262800@www.architecturebretagne.fr
SUMMARY:Ciné Limur : L'architecture au féminin
DESCRIPTION:Installez-vous pour découvrir les créations de cinéastes talentueux qui explorent autant le cinéma que la culture architecturale. \n« Bref\, je suis une femme architecte » de Marine Desouter\, suivi de « La grande arche » de Camille Authouart puis de « Crimée enchantée\, Histoire(s) d’une architecture » de Sophie Comtet.\nPour penser l’architecture au féminin et au quotidien\, pour écouter et regarder les femmes en parler\, pour repenser le discours sur l’architecture en faisant dialoguer un édifice avec un philosophe\, une danseuse\, un écrivain et des acrobates.\nProjections suivies d’un temps d’échange. \nProjections suivies d’un temps d’échanges. \n \nMercredi 11 mars à 18h30 · CIAP\, 31 Rue Adolphe Thiers – Vannes (56)\nÀ l’auditorium du CIAP\, au 2e étage de l’hôtel de Limur.\nGratuit et ouvert à toutes et tous – Réservation conseillé : 02 97 44 52 02 \n  \n+ D’INFO \n 
URL:https://www.architecturebretagne.fr/calendrier/cine-limur-larchitecture-au-feminin/
LOCATION:CIAP\, 31 Rue Adolphe Thiers – Vannes\, 31 Rue Adolphe Thiers\, Vannes
CATEGORIES:Rencontres
END:VEVENT
BEGIN:VEVENT
DTSTART;TZID=Europe/Paris:20260306T183000
DTEND;TZID=Europe/Paris:20260306T190000
DTSTAMP:20260424T175137
CREATED:20260227T155659Z
LAST-MODIFIED:20260227T155659Z
UID:9511-1772821800-1772823600@www.architecturebretagne.fr
SUMMARY:ARCHI HOUR n°5 : « Horizontal - Vertical »
DESCRIPTION:La soirée Archi Hour N°5 s’inscrit dans le Festival La Preuve par 9\, organisé par Le Temps des Sciences sur le thème MATHS ET ARCHITECTURE. @le_temps_des_sciences \nDeux projets de maisons seront présentés à cette occasion\, mettant en avant des proportions affirmées\, entre horizontalité et verticalité\, révélant comment l’architecte utilise des formes géométriques simples pour créer une relation unique entre le paysage et l’habitat :\n-Maison horizontale de bord de mer par David Cras\,\n-Maison verticale en bord de vallée par Jules Gauffeny & Lucas Fontaine @gauffenyfontaine \nDes échanges se poursuivront sous forme de table ronde avec les architectes et Philippe Michel\, mathématicien. \nRendez-vous le vendredi 6 mars à 18h30 au Totem de l’innovation\, 53 boulevard Clemenceau à Saint-Brieuc
URL:https://www.architecturebretagne.fr/calendrier/archi-hour-n5-horizontal-vertical/
ATTACH;FMTTYPE=image/png:https://www.architecturebretagne.fr/wp-content/uploads/2026/02/AH5insta1080x1080-scaled.png
END:VEVENT
BEGIN:VEVENT
DTSTART;TZID=Europe/Paris:20260304T183000
DTEND;TZID=Europe/Paris:20260304T210000
DTSTAMP:20260424T175137
CREATED:20260227T160047Z
LAST-MODIFIED:20260227T160047Z
UID:9514-1772649000-1772658000@www.architecturebretagne.fr
SUMMARY:Café de l’espace : "Un PLU peut-il être politique ? "
DESCRIPTION:A l’approche des élections municipales\, l’association Objectif Mars vous invite à son prochain Café de l’espace mettant en débat le Plan Local d’Urbanisme. \nLe café débat aura lieu mercredi 4 mars à 18h30 aux Enracinés à Brest.\nComme d’habitude\, l’événement est gratuit et ouvert à tous ! \n« Le Plan Local d’Urbanisme (PLU) c’est le document qui décide de ce qu’on peut construire\, où\, et comment\, dans votre commune. Derrière cet acronyme technique se cachent des choix qui façonnent concrètement notre cadre de vie : la hauteur des immeubles\, la place accordée aux espaces verts\, la mixité des quartiers\, la densité du bâti… \nMais le PLU est-il condamné à rester un simple règlement réservé aux spécialistes ? Peut-il devenir un véritable levier pour une ville plus juste\, plus écologique\, et construite avec ses habitants ?\nC’est à ces questions que nous vous proposons de réfléchir ensemble lors de cette soirée débat. Comment cet outil peut-il mieux prendre en compte les enjeux sociaux et environnementaux ? Comment ouvrir son élaboration à une participation citoyenne réelle et locale\, plutôt que de la laisser aux seuls techniciens et élus ? \nVenez débattre\, questionner et contribuer à imaginer la ville que nous voulons. »
URL:https://www.architecturebretagne.fr/calendrier/cafe-de-lespace-un-plu-peut-il-etre-politique/
LOCATION:Les Enracinés ! – Brest\, 24 Rue d'Aiguillon\,\, Brest\, 29200\, France
ATTACH;FMTTYPE=image/png:https://www.architecturebretagne.fr/wp-content/uploads/2026/02/cafe-debat16-Affiche-scaled.png
END:VEVENT
BEGIN:VEVENT
DTSTART;TZID=Europe/Paris:20260209T080000
DTEND;TZID=Europe/Paris:20260325T000000
DTSTAMP:20260424T175137
CREATED:20260209T105914Z
LAST-MODIFIED:20260210T083518Z
UID:9451-1770624000-1774396800@www.architecturebretagne.fr
SUMMARY:Résidence d’architecture 2026
DESCRIPTION:Maen roch : Un territoire aux identités croisées\n\nLa MAeB lance sa 4ᵉ résidence d’architecture à Maen Roch (35)\, dans le cadre du dispositif national des Résidences d’architecture en France 2026. Pendant six semaines\, l’équipe de résidents explorera les transformations d’une commune née de la fusion de deux bourgs\, en immersion au cœur de la vallée du Couesnon. Une résidence ouverte sur le territoire pour interroger les manières d’habiter et partager un regard sensible sur ses évolutions contemporaines. \n  \n+ d’information
URL:https://www.architecturebretagne.fr/calendrier/residence-darchitecture-2026/
ATTACH;FMTTYPE=image/jpeg:https://www.architecturebretagne.fr/wp-content/uploads/2026/02/©MAeB-copie-1.jpg
END:VEVENT
BEGIN:VEVENT
DTSTART;TZID=Europe/Paris:20260101T080000
DTEND;TZID=Europe/Paris:20260331T233000
DTSTAMP:20260424T175137
CREATED:20260209T121126Z
LAST-MODIFIED:20260209T121310Z
UID:9459-1767254400-1774999800@www.architecturebretagne.fr
SUMMARY:Concours de dessin 2026
DESCRIPTION:Cette année\, la MAeB te propose d’explorer le thème : ✨ « Architecture de nuit » ✨ \nQuand la nuit tombe\, la ville change de visage… Les bâtiments s’illuminent\, les ombres s’étirent\, les formes se transforment.\nImagine une architecture\, un bâtiment ou une ville qui se révèle dans l’obscurité et dessine ta vision de la nuit. \nTechniques libres : dessin\, collage\, superpositions\, jeux d’ombres… tout est possible pour laisser parler ton imagination !\nLe concours est ouvert aux enfants de cycle 2 et 3 (du CP à la 6e).\nDate limite d’envoi des dessins : 31 mars 2025 \n  \n  \n✏️  À vos crayons\, ciseaux et papiers…\nNous avons hâte de découvrir vos architectures de nuit ! \n  \n+ d’information \nToutes les informations\, le règlement et les modalités de participation sur + d’information.
URL:https://www.architecturebretagne.fr/calendrier/concours-de-dessin-2026/
ATTACH;FMTTYPE=image/jpeg:https://www.architecturebretagne.fr/wp-content/uploads/2025/12/Concours-de-dessin.jpg
END:VEVENT
END:VCALENDAR